BEGIN:VCALENDAR
VERSION:2.0
PRODID:-//wp-events-plugin.com//7.2.3.1//EN
TZID:Europe/Berlin
X-WR-TIMEZONE:Europe/Berlin
BEGIN:VEVENT
UID:59@technikelfe.com
DTSTART;TZID=Europe/Berlin:20250507T140000
DTEND;TZID=Europe/Berlin:20250507T153000
DTSTAMP:20250211T081603Z
URL:https://technikelfe.com/veranstaltungen/warum-bianca-fritz/
SUMMARY:Praxisworkshop: Schreib dich zu deinem Warum! mit Bianca Fritz
DESCRIPTION:Im Technikelfen-Tribe und in der Expert*innen-Fortbildung gibt 
 es immer wieder Praxisworkshops. In diesem Workshop haben wir Marketing-Ex
 pertin und Journalistin Bianca Fritz zu Gast.\n\nWorum geht es?\n\nSchreib
  dich zu deinem Warum!\nEin Satz\, der zeigt\, was dich antreibt und den d
 u als Leitplanke in deinem Business nutzen kannst. Bianca hat ihre Methode
  das große Warum zu finden in eine knackige 90 Minuten Session gepackt in
  der du mit ihr dein Warum erschreibst. Wichtig: Bring Papier und einen sc
 hnelsschreibenden Stift mit. Dir könnte hinterher die Hand wehtun - aber 
 du wirst etwas ganz wundervolles geschafft haben!\n\nWeitere Informationen
  zum Tribe findest du hier.\n\nWeitere Informationen zur Expert*innen-Fort
 bildung findest du hier.
ATTACH;FMTTYPE=image/jpeg:https://technikelfe.com/wp-content/uploads/2025/
 01/workshop-event.jpg
CATEGORIES:Technikelfen©-Fortbildung
END:VEVENT
BEGIN:VTIMEZONE
TZID:Europe/Berlin
X-LIC-LOCATION:Europe/Berlin
BEGIN:DAYLIGHT
DTSTART:20250330T030000
TZOFFSETFROM:+0100
TZOFFSETTO:+0200
TZNAME:CEST
END:DAYLIGHT
END:VTIMEZONE
END:VCALENDAR