BEGIN:VCALENDAR
VERSION:2.0
PRODID:-//wp-events-plugin.com//7.2.3.1//EN
TZID:Europe/Berlin
X-WR-TIMEZONE:Europe/Berlin
BEGIN:VEVENT
UID:60@technikelfe.com
DTSTART;TZID=Europe/Berlin:20250605T100000
DTEND;TZID=Europe/Berlin:20250605T120000
DTSTAMP:20250211T081606Z
URL:https://technikelfe.com/veranstaltungen/storytelling-bianca-fritz/
SUMMARY:Praxisworkshop: Erzähl mir Geschichten! mit Bianca Fritz Teil 1
DESCRIPTION:Im Technikelfen-Tribe und in der Expert*innen-Fortbildung gibt 
 es immer wieder Praxisworkshops. In diesem Workshop haben wir Marketing-Ex
 pertin und Journalistin Bianca Fritz zu Gast.\n\nWorum geht es?\n\nErzähl
  mir Geschichten!\nDu weißt schon\, dass Storytelling für deinen Content
  im Netz ganz wichtig wäre. Weil es Inhalte so schön emotional macht. Ab
 er vielleicht denkst du\, du hättest nichts zu erzählen oder du weißt n
 icht wie. Besonders nicht in 15 Sekunden? Das ändern wir mit diesem viers
 tündigen Workshop. (2x2 Stunden). Lerne Geschichten zu entdecken und sie 
 packend zu erzählen. Bring unbedingt Notizbuch und Stifte mit\, weil du d
 irekt umsetzen und Geschichten planen wirst.\n\nWeitere Informationen zum 
 Tribe findest du hier.\n\nWeitere Informationen zur Expert*innen-Fortbildu
 ng findest du hier.
ATTACH;FMTTYPE=image/jpeg:https://technikelfe.com/wp-content/uploads/2025/
 01/workshop-event.jpg
CATEGORIES:Technikelfen©-Fortbildung
END:VEVENT
BEGIN:VTIMEZONE
TZID:Europe/Berlin
X-LIC-LOCATION:Europe/Berlin
BEGIN:DAYLIGHT
DTSTART:20250330T030000
TZOFFSETFROM:+0100
TZOFFSETTO:+0200
TZNAME:CEST
END:DAYLIGHT
END:VTIMEZONE
END:VCALENDAR