BEGIN:VCALENDAR
VERSION:2.0
PRODID:-//wp-events-plugin.com//7.2.3.1//EN
TZID:Europe/Berlin
X-WR-TIMEZONE:Europe/Berlin
BEGIN:VEVENT
UID:57@technikelfe.com
DTSTART;TZID=Europe/Berlin:20250313T130000
DTEND;TZID=Europe/Berlin:20250313T150000
DTSTAMP:20250211T062225Z
URL:https://technikelfe.com/veranstaltungen/praxisbeispiel-schriften-umste
 llen-auf-der-webseite/
SUMMARY:Praxisbeispiel: Schriften umstellen auf der Webseite
DESCRIPTION:Im Technikelfen-Tribe und in der Expert*innen-Fortbildung gibt 
 es immer wieder aktuelle Fall- und Praxisbeispiele. In diesem Fallbeispiel
  sehen wir uns an\, welche Schritte es braucht\, damit die Schriften einer
  Webseite komplett umgestellt werden können.\n\nIn diesem Fall wird eine 
 kostenpflichtige Schrift verwendet und die Inhaberin der Webseite möchte 
 auf eine kostenlose Schrift umstellen. Es geht also nicht nur darum die ne
 ue Schrift einzubinden\, sondern auch darum die alte Schrift von der Webse
 ite komplett verschwinden zu lassen.\n\nWeitere Informationen zum Tribe fi
 ndest du hier.\n\nWeitere Informationen zur Expert*innen-Fortbildung finde
 st du hier.
ATTACH;FMTTYPE=image/jpeg:https://technikelfe.com/wp-content/uploads/2025/
 01/fallbeispiel-tribe.jpg
CATEGORIES:Technikelfen-Tribe,Technikelfen©-Fortbildung
END:VEVENT
BEGIN:VTIMEZONE
TZID:Europe/Berlin
X-LIC-LOCATION:Europe/Berlin
BEGIN:STANDARD
DTSTART:20241027T020000
TZOFFSETFROM:+0200
TZOFFSETTO:+0100
TZNAME:CET
END:STANDARD
END:VTIMEZONE
END:VCALENDAR