BEGIN:VCALENDAR
VERSION:2.0
PRODID:-//wp-events-plugin.com//7.2.3.1//EN
TZID:Europe/Berlin
X-WR-TIMEZONE:Europe/Berlin
BEGIN:VEVENT
UID:58@technikelfe.com
DTSTART;TZID=Europe/Berlin:20250326T100000
DTEND;TZID=Europe/Berlin:20250326T110000
DTSTAMP:20250211T081704Z
URL:https://technikelfe.com/veranstaltungen/podcast-gordon-schoenwaelder/
SUMMARY:Spezial-Webinar: Podcast als Marketing-Instrument mit Gordon Schön
 wälder
DESCRIPTION:Im Technikelfen©-Universum gibt es immer wieder Expert*innen-W
 ebinare. In diesem Webinar besucht uns Gordon Schönwälder und teilt mit 
 uns seine Expertise aus einem Jahrzehnt Podcast-Erfahrung.\n\nHier geht es
  zur Anmeldung.
ATTACH;FMTTYPE=image/jpeg:https://technikelfe.com/wp-content/uploads/2024/
 01/expert-innen-webinar.jpg
CATEGORIES:Gast-Expert*innen,Technikelfen-Tribe,Technikelfen©-Fortbildung
END:VEVENT
BEGIN:VTIMEZONE
TZID:Europe/Berlin
X-LIC-LOCATION:Europe/Berlin
BEGIN:STANDARD
DTSTART:20241027T020000
TZOFFSETFROM:+0200
TZOFFSETTO:+0100
TZNAME:CET
END:STANDARD
END:VTIMEZONE
END:VCALENDAR