BEGIN:VCALENDAR
VERSION:2.0
PRODID:-//wp-events-plugin.com//7.2.3.1//EN
TZID:Europe/Berlin
X-WR-TIMEZONE:Europe/Berlin
BEGIN:VEVENT
UID:63@technikelfe.com
DTSTART;TZID=Europe/Berlin:20250708T100000
DTEND;TZID=Europe/Berlin:20250708T110000
DTSTAMP:20250331T073143Z
URL:https://technikelfe.com/veranstaltungen/ordnung-pc-claudia-kauscheder/
SUMMARY:Praxisworkshop: Ordnung am PC mit Claudia Kauscheder
DESCRIPTION:Im Technikelfen-Tribe und in der Expert*innen-Fortbildung gibt 
 es immer wieder Praxisworkshops. In diesem Workshop haben wir Selbstmanage
 ment-Expertin Claudia Kauscheder zu Gast.\n\nSie wird uns zeigen\, wie wir
  am PC nicht nur Dateien wiederfinden\, sondern auch ein sinnvolles System
  für unsere Bilder aufbauen.\n\nWeitere Informationen zum Tribe findest d
 u hier.\n\nWeitere Informationen zur Expert*innen-Fortbildung findest du h
 ier.
ATTACH;FMTTYPE=image/jpeg:https://technikelfe.com/wp-content/uploads/2025/
 01/workshop-event.jpg
CATEGORIES:Technikelfen-Tribe,Technikelfen©-Fortbildung,Veranstaltungen
 für 0€
END:VEVENT
BEGIN:VTIMEZONE
TZID:Europe/Berlin
X-LIC-LOCATION:Europe/Berlin
BEGIN:DAYLIGHT
DTSTART:20250330T030000
TZOFFSETFROM:+0100
TZOFFSETTO:+0200
TZNAME:CEST
END:DAYLIGHT
END:VTIMEZONE
END:VCALENDAR